BEGIN:VCALENDAR
VERSION:2.0
PRODID:-//Squarespace Inc/Squarespace 6//v6//EN
BEGIN:VEVENT
UID:5713f3018a65e26d9471758e@squarespace.com
DTSTAMP:20160718T183705Z
DTSTART:20151101T220000Z
DTEND:20160518T220000Z
SUMMARY:The Nathan Cummings Foundation\, New York\, NY: (Counter) Public Ar
 t\, Intervention and Performance in Lower Manhattan from 1978-1993
GEO:37.427595;-122.167615
LOCATION:The Nathan Cummings Foundation\, NY\, 475 Tenth Avenue\, 14th Floo
 r\, New York\, NY 10018
END:VEVENT
END:VCALENDAR
