BEGIN:VCALENDAR
VERSION:2.0
PRODID:-//Squarespace Inc/Squarespace 6//v6//EN
BEGIN:VEVENT
UID:5713f36d2eeb81400002442b@squarespace.com
DTSTAMP:20160720T180602Z
DTSTART:20151211T220000Z
DTEND:20160807T220000Z
SUMMARY:Exhibition: Agit Prop
GEO:40.670966;-73.963661
LOCATION:Brooklyn Museum\, Brooklyn\, NY\, 200 Eastern Parkway\, Brooklyn\, 
 New York 11238-6052
END:VEVENT
END:VCALENDAR
