BEGIN:VCALENDAR
VERSION:2.0
PRODID:-//Squarespace Inc/Squarespace 6//v6//EN
BEGIN:VEVENT
UID:5727c66507eaa0ee8c3db3d0@squarespace.com
DTSTAMP:20161229T061401Z
DTSTART:20160121T223000Z
DTEND:20161231T233000Z
SUMMARY:Exhibition: Art at the Center: Guerrilla Girls
GEO:44.968436;-93.288541
LOCATION:Walker Art Center\, Minneapolis\, MN\, 1750 Hennepin Avenue\, Minn
 eapolis\, MN\, 55403\, United States
END:VEVENT
END:VCALENDAR
