BEGIN:VCALENDAR
VERSION:2.0
PRODID:-//Squarespace Inc/Squarespace 6//v6//EN
BEGIN:VEVENT
UID:578fb1c29de4bbd742f42967@squarespace.com
DTSTAMP:20160720T181641Z
DTSTART:20161001T220000Z
DTEND:20161001T230000Z
SUMMARY:Talk: Guerrilla Girls
GEO:51.507351;-0.127758
LOCATION:Whitechapel Gallery\, London\, London
END:VEVENT
END:VCALENDAR
