BEGIN:VCALENDAR
VERSION:2.0
PRODID:-//Squarespace Inc/Squarespace 6//v6//EN
BEGIN:VEVENT
UID:5713f9ca2b8dde54a3529554@squarespace.com
DTSTAMP:20161010T201832Z
DTSTART:20161013T233000Z
DTEND:20161014T013000Z
SUMMARY:Talk/Performance: Guerrilla Girls
GEO:40.720756;-74.000761
LOCATION:Zuccaire Gallery\, SUNY Stony Brook\, NY\, Stony Brook\, New York 
 11794
END:VEVENT
END:VCALENDAR
