BEGIN:VCALENDAR
VERSION:2.0
PRODID:-//Squarespace Inc/Squarespace 6//v6//EN
BEGIN:VEVENT
UID:572121b686db43bc02c697fa@squarespace.com
DTSTAMP:20160720T181647Z
DTSTART:20161003T170000Z
DTEND:20161010T010000Z
SUMMARY:Residency: Complaints Department\, operated by the Guerrilla Girls
GEO:51.508129;-0.095187
LOCATION:Tate Modern\, London\, Bankside\, London\, SE1\, United Kingdom
END:VEVENT
END:VCALENDAR
