BEGIN:VCALENDAR
VERSION:2.0
PRODID:-//Squarespace Inc/Squarespace 6//v6//EN
BEGIN:VEVENT
UID:587c301fbebafbe8c6b88236@squarespace.com
DTSTAMP:20170131T000251Z
DTSTART:20161111T023000Z
DTEND:20170220T033000Z
SUMMARY:Exhibition: Not Ready To Make Nice
GEO:49.120552;6.179159
LOCATION:49 Nord 6 Est – Frac Lorraine\, 1 bis\, rue des Trinitaires\, F-57
 000 Metz\, France
END:VEVENT
END:VCALENDAR
