BEGIN:VCALENDAR
VERSION:2.0
PRODID:-//Squarespace Inc/Squarespace 6//v6//EN
BEGIN:VEVENT
UID:582735a62994ca2c67593457@squarespace.com
DTSTAMP:20161115T061739Z
DTSTART:20161119T030000Z
DTEND:20161119T040000Z
SUMMARY:Talk: Arizona State University
GEO:33.491673;-111.922979
LOCATION:Arizona State University\, 7374 East 2nd Street\, Scottsdale\, AZ\
 , 85251\, United States
END:VEVENT
END:VCALENDAR
