BEGIN:VCALENDAR
VERSION:2.0
PRODID:-//Squarespace Inc/Squarespace 6//v6//EN
BEGIN:VEVENT
UID:58274010725e259c854c0269@squarespace.com
DTSTAMP:20161115T061729Z
DTSTART:20161118T033000Z
DTEND:20161118T043000Z
SUMMARY:Talk: Bowdoin College
GEO:43.914016;-69.966996
LOCATION:Bowdoin College\, Visual Arts Center\, Kresge Auditorium\, Brunswi
 ck\, Maine 04011
END:VEVENT
END:VCALENDAR
