BEGIN:VCALENDAR
VERSION:2.0
PRODID:-//Squarespace Inc/Squarespace 6//v6//EN
BEGIN:VEVENT
UID:5809af47f7e0ab6f1abd9577@squarespace.com
DTSTAMP:20161115T061836Z
DTSTART:20161119T180000Z
DTEND:20161119T220000Z
SUMMARY:Workshop: Art and Activism\, Scottsdale MOCA
GEO:33.49191;-111.922358
LOCATION:Scottsdale Museum of Contemporary Art\, 7380 East Second Street\, 
 Scottsdale\, AZ 85251
END:VEVENT
END:VCALENDAR
