BEGIN:VCALENDAR
VERSION:2.0
PRODID:-//Squarespace Inc/Squarespace 6//v6//EN
BEGIN:VEVENT
UID:5809b8ee725e25a1bb92eecb@squarespace.com
DTSTAMP:20161115T061847Z
DTSTART:20161208T020000Z
DTEND:20161208T060000Z
SUMMARY:Talk and Panel: Bruce Museum
GEO:41.019857;-73.622932
LOCATION:Bruce Museum\, 1 Museum Drive\, Greenwich CT 06830-7157
END:VEVENT
END:VCALENDAR
