BEGIN:VCALENDAR
VERSION:2.0
PRODID:-//Squarespace Inc/Squarespace 6//v6//EN
BEGIN:VEVENT
UID:5713f114555986fb1e0dbf7b@squarespace.com
DTSTAMP:20160718T183142Z
DTSTART:20160324T203000Z
DTEND:20160522T213000Z
SUMMARY:The William Benton Museum of Art\, University of Connecticut: Guerr
 illa Girls: Art\, Activism & the “F” Word
GEO:41.808565;-72.252799
LOCATION:The Benton\, Connecticut State Art Museum\, 245 Glenbrook Road\, M
 ansfield\, CT\, 06269\, United States
END:VEVENT
END:VCALENDAR
