BEGIN:VCALENDAR
VERSION:2.0
PRODID:-//Squarespace Inc/Squarespace 6//v6//EN
BEGIN:VEVENT
UID:5713ecfce32140c55c938f13@squarespace.com
DTSTAMP:20160718T183038Z
DTSTART:20160402T203000Z
DTEND:20160507T213000Z
SUMMARY:galerie des multiples\, Paris\, France: Ministère Ta Mère
GEO:48.8579;2.364903
LOCATION:Galerie de Multiples\, Paris\, 17\, Rue Saint-Gilles\, Paris\, Île
 -de-France\, 75003\, France
END:VEVENT
END:VCALENDAR
