BEGIN:VCALENDAR
VERSION:2.0
PRODID:-//Squarespace Inc/Squarespace 6//v6//EN
BEGIN:VEVENT
UID:5713f21fd210b8c8982088bb@squarespace.com
DTSTAMP:20161214T200828Z
DTSTART:20160423T203000Z
DTEND:20160528T213000Z
SUMMARY:LifeSpace Science Art Research Gallery\, Dundee\, Scotland: Hormona
 l
END:VEVENT
END:VCALENDAR
