BEGIN:VCALENDAR
VERSION:2.0
PRODID:-//Squarespace Inc/Squarespace 6//v6//EN
BEGIN:VEVENT
UID:5713f089b6aa60f0aa6cc544@squarespace.com
DTSTAMP:20160720T180627Z
DTSTART:20160403T203000Z
DTEND:20160724T213000Z
SUMMARY:Exhibition: Three Centuries of American Prints
GEO:38.892072;-77.017486
LOCATION:National Gallery of Art\, Washington DC\, 4th and Constitution Ave
 nue NW\, Washington\, DC 20565
END:VEVENT
END:VCALENDAR
