BEGIN:VCALENDAR
VERSION:2.0
PRODID:-//Squarespace Inc/Squarespace 6//v6//EN
BEGIN:VEVENT
UID:5713f26f20c647082b7eab7c@squarespace.com
DTSTAMP:20160718T182703Z
DTSTART:20160515T203000Z
DTEND:20160515T213000Z
SUMMARY:University of Iowa Museum of Art\, Iowa City: Social (In)justice
GEO:41.659891;-91.537722
LOCATION:Black Box Theater\, University of Iowa\, 125 North Madison Street\
 , Iowa City\, IA 52242\, United States
END:VEVENT
END:VCALENDAR
