BEGIN:VCALENDAR
VERSION:2.0
PRODID:-//Squarespace Inc/Squarespace 6//v6//EN
BEGIN:VEVENT
UID:578fc11be4fcb590b4179bd0@squarespace.com
DTSTAMP:20161108T065115Z
DTSTART:20160709T180000Z
DTEND:20170116T020000Z
SUMMARY:Exhibition: Guerrilla Girls: 1985 - Today
GEO:51.434411;5.481813
LOCATION:Van Abbemuseum\, Eindhoven\, Netherlands\, 10 Bilderdijklaan\, Ein
 dhoven\, NB\, 5611 NH\, Netherlands
END:VEVENT
END:VCALENDAR
