BEGIN:VCALENDAR
VERSION:2.0
PRODID:-//Squarespace Inc/Squarespace 6//v6//EN
BEGIN:VEVENT
UID:5713f3dae32140c55c93becb@squarespace.com
DTSTAMP:20161108T053454Z
DTSTART:20160826T210000Z
DTEND:20170108T230000Z
SUMMARY:Exhibition: We Call It Lud­wig: The Mu­se­um Lud­wig Is Turn­ing 40
 !
GEO:50.941083;6.960977
LOCATION:Museum Ludwig\, Cologne\, Germany\, Heinrich-Böll-Platz\, 50667 Kö
 ln\, Germany
END:VEVENT
END:VCALENDAR
