BEGIN:VCALENDAR
VERSION:2.0
PRODID:-//Squarespace Inc/Squarespace 6//v6//EN
BEGIN:VEVENT
UID:5713f44f3c44d8d51d28901a@squarespace.com
DTSTAMP:20161014T181624Z
DTSTART:20160913T210000Z
DTEND:20161022T220000Z
SUMMARY:Exhibition: Not Ready to Make Nice: THE GUERRILLA GIRLS IN THE ARTW
 ORLD AND BEYOND
GEO:40.720756;-74.000761
LOCATION:Zuccaire Gallery\, SUNY Stony Brook\, NY\, Stony Brook University\
 , Stony Brook\, New York 11794
END:VEVENT
END:VCALENDAR
