BEGIN:VCALENDAR
VERSION:2.0
PRODID:-//Squarespace Inc/Squarespace 6//v6//EN
BEGIN:VEVENT
UID:5713f495f8baf32059449422@squarespace.com
DTSTAMP:20170130T235848Z
DTSTART:20160925T210000Z
DTEND:20170312T220000Z
SUMMARY:Exhibition: Front Room: Guerrilla Girls
GEO:39.325755;-76.61944
LOCATION:Baltimore Museum of Art\, Baltimore\, MD\, 10 Art Museum Drive\, B
 altimore\, MD\, 21218
END:VEVENT
END:VCALENDAR
