BEGIN:VCALENDAR
VERSION:2.0
PRODID:-//Squarespace Inc/Squarespace 6//v6//EN
BEGIN:VEVENT
UID:578fb375b3db2b51a9ce49fd@squarespace.com
DTSTAMP:20160725T183141Z
DTSTART:20160904T000000Z
DTEND:20160904T020000Z
SUMMARY:Talk: Making Trouble with the Guerrilla Girls
GEO:50.937531;6.960279
LOCATION:Museum Ludwig\, Cologne\, Germany\, Cologne\, Germany
END:VEVENT
END:VCALENDAR
