BEGIN:VCALENDAR
VERSION:2.0
PRODID:-//Squarespace Inc/Squarespace 6//v6//EN
BEGIN:VEVENT
UID:5713f419e32140c55c93c092@squarespace.com
DTSTAMP:20161108T064813Z
DTSTART:20160909T210000Z
DTEND:20161112T230000Z
SUMMARY:Exhibition: Guerrilla Girls\, La Barbe
GEO:48.867787;2.356644
LOCATION:Galerie mfc-Michèle Didier\, Paris\, France\, 66 Rue Notre Dame de 
 Nazareth\, Paris\, Île-de-France\, 75003\, France
END:VEVENT
END:VCALENDAR
