BEGIN:VCALENDAR
VERSION:2.0
PRODID:-//Squarespace Inc/Squarespace 6//v6//EN
BEGIN:VEVENT
UID:57aa36ee46c3c4102be99977@squarespace.com
DTSTAMP:20160809T200950Z
DTSTART:20160909T210000Z
DTEND:20160910T010000Z
SUMMARY:Panel Discussion: Guerrilla Girls\, La Barbe\, and Femen
GEO:48.881401;2.330827
LOCATION:the Maison des Auteurs\, 7 Rue Ballu\, Paris\, Île-de-France\, 750
 09\, France
END:VEVENT
END:VCALENDAR
