BEGIN:VCALENDAR
VERSION:2.0
PRODID:-//Squarespace Inc/Squarespace 6//v6//EN
BEGIN:VEVENT
UID:583bee89197aead7ad0ac717@squarespace.com
DTSTAMP:20161229T061353Z
DTSTART:20170119T030000Z
DTEND:20170119T050000Z
SUMMARY:Talk: Augustana College
GEO:41.503551;-90.551247
LOCATION:Augustana College\, Centennial Hall\, 820 38th St\, Rock Island\, 
 Illinois 60201
END:VEVENT
END:VCALENDAR
