BEGIN:VCALENDAR
VERSION:2.0
PRODID:-//Squarespace Inc/Squarespace 6//v6//EN
BEGIN:VEVENT
UID:59e63dbfbce1762332276ab3@squarespace.com
DTSTAMP:20190123T191937Z
DTSTART:20171201T020000Z
DTEND:20171201T050000Z
SUMMARY:GIG: Jule Collins Smith Museum
GEO:32.587622;-85.483782
LOCATION:Jule Collins Smith Museum\, 901 South College Street\, Auburn\, AL
 \, 36832\, United States
END:VEVENT
END:VCALENDAR
