BEGIN:VCALENDAR
VERSION:2.0
PRODID:-//Squarespace Inc/Squarespace 6//v6//EN
BEGIN:VEVENT
UID:59e63f89edaed81fa746ea10@squarespace.com
DTSTAMP:20190123T192018Z
DTSTART:20171201T010000Z
DTEND:20171201T030000Z
SUMMARY:GIG: UC Santa Barbara
GEO:34.411333;-119.854978
LOCATION:UCSB\, Isla Vista Theater\, 960 Embarcadero del Norte\, Isla Vista
END:VEVENT
END:VCALENDAR
