BEGIN:VCALENDAR
VERSION:2.0
PRODID:-//Squarespace Inc/Squarespace 6//v6//EN
BEGIN:VEVENT
UID:5a3ae7740d9297fbaa6cdd9b@squarespace.com
DTSTAMP:20190123T190641Z
DTSTART:20180214T230000Z
DTEND:20180313T230000Z
SUMMARY:Exhibition: Brand New Art and Commodity in The 1980s\, DC
GEO:38.88757;-77.029605
LOCATION:Hirshhorn Museum\, Independence Avenue Southwest\, Washington\, DC
 \, United States
END:VEVENT
END:VCALENDAR
