BEGIN:VCALENDAR
VERSION:2.0
PRODID:-//Squarespace Inc/Squarespace 6//v6//EN
BEGIN:VEVENT
UID:5a3ae98471c10b359f4c4a93@squarespace.com
DTSTAMP:20190123T190841Z
DTSTART:20180225T030000Z
DTEND:20180225T050000Z
SUMMARY:PANEL: Women Who Transformed Art in the West
GEO:37.754257;-122.389391
LOCATION:Minnesota Street Project\, 1275 Minnesota Street\, San Francisco\, 
 CA\, 94107\, United States
END:VEVENT
END:VCALENDAR
