BEGIN:VCALENDAR
VERSION:2.0
PRODID:-//Squarespace Inc/Squarespace 6//v6//EN
BEGIN:VEVENT
UID:5a5fcf7ae2c4833a26f9d151@squarespace.com
DTSTAMP:20190123T191800Z
DTSTART:20171207T230000Z
DTEND:20171211T000000Z
SUMMARY:Exhibition: Fair\, Art Basel Miami
GEO:25.767164;-80.193081
LOCATION:Brickell City Centre\, 701 South Miami Avenue\, Miami\, FL\, 33130
 \, United States
END:VEVENT
END:VCALENDAR
