BEGIN:VCALENDAR
VERSION:2.0
PRODID:-//Squarespace Inc/Squarespace 6//v6//EN
BEGIN:VEVENT
UID:583bf107197aead7ad0ad5d2@squarespace.com
DTSTAMP:20170131T000348Z
DTSTART:20170210T020000Z
DTEND:20170210T040000Z
SUMMARY:Talk: Harn Museum\, Florida
GEO:29.637059;-82.370145
LOCATION:Harn Museum of Art\, 3259 Hull Road\, Gainesville\, FL\, 32608\, U
 nited States
END:VEVENT
END:VCALENDAR
