BEGIN:VCALENDAR
VERSION:2.0
PRODID:-//Squarespace Inc/Squarespace 6//v6//EN
BEGIN:VEVENT
UID:58ae08dfd482e96b84d0b23d@squarespace.com
DTSTAMP:20170222T222229Z
DTSTART:20170225T190000Z
DTEND:20170522T210000Z
SUMMARY:Exhibition: Person of the Crowd: The Contemporary Art of Flânerie
GEO:39.960519;-75.17259
LOCATION:Barnes Foundation\, 2025 Benjamin Franklin Parkway\, Philadelphia\
 , PA\, 19130\, United States
END:VEVENT
END:VCALENDAR
