BEGIN:VCALENDAR
VERSION:2.0
PRODID:-//Squarespace Inc/Squarespace 6//v6//EN
BEGIN:VEVENT
UID:588fcbca579fb3e4efb4e449@squarespace.com
DTSTAMP:20170131T000328Z
DTSTART:20170205T000000Z
DTEND:20170205T053000Z
SUMMARY:EVENT: TATTOO YOU\, Tara Gallery\, Lisbon
GEO:38.722252;-9.139337
LOCATION:Tara Gallery\, R. da Boavista 53\, Palácio Almada\, Carvalhais\, L
 isbon
END:VEVENT
END:VCALENDAR
