BEGIN:VCALENDAR
VERSION:2.0
PRODID:-//Squarespace Inc/Squarespace 6//v6//EN
BEGIN:VEVENT
UID:58d2e17c86e6c041346fcd2d@squarespace.com
DTSTAMP:20170322T205739Z
DTSTART:20170311T220000Z
DTEND:20170521T220000Z
SUMMARY:Exhibition: SCENARIO FANTÔM\, FRAC Normandie Caen
GEO:49.187975;-0.346793
LOCATION:FONDS RÉGIONAL D'ART CONTEMPORAIN NORMANDIE CAEN\, 9 Rue Vaubenard
 \, Caen\, Normandie\, 14000\, France
END:VEVENT
END:VCALENDAR
