BEGIN:VCALENDAR
VERSION:2.0
PRODID:-//Squarespace Inc/Squarespace 6//v6//EN
BEGIN:VEVENT
UID:5898c8cc37c58185b5f322df@squarespace.com
DTSTAMP:20170216T192819Z
DTSTART:20170312T220000Z
DTEND:20170312T230000Z
SUMMARY:Talk: Frida Kahlo with curator Kristen Hileman
GEO:39.325755;-76.61944
LOCATION:The Baltimore Museum of Art\, 10 Art Museum Drive\, Baltimore\, MD
 \, 21218\, United States
END:VEVENT
END:VCALENDAR
