BEGIN:VCALENDAR
VERSION:2.0
PRODID:-//Squarespace Inc/Squarespace 6//v6//EN
BEGIN:VEVENT
UID:58b34bf6d2b8571f0fcdb8e9@squarespace.com
DTSTAMP:20170226T215041Z
DTSTART:20170316T020000Z
DTEND:20170316T043000Z
SUMMARY:Reading: Hysterical Herstory of Hysteria
GEO:40.721397;-73.988918
LOCATION:Bluestockings\, NYC\, 172 Allen Street\, New York\, NY 10002
END:VEVENT
END:VCALENDAR
