BEGIN:VCALENDAR
VERSION:2.0
PRODID:-//Squarespace Inc/Squarespace 6//v6//EN
BEGIN:VEVENT
UID:58f7c71517bffc9669580836@squarespace.com
DTSTAMP:20170419T202718Z
DTSTART:20170419T203000Z
DTEND:20170419T213000Z
SUMMARY:Exhibition: Taking it to the Streets! The Art + Design of Posters + 
 Flyers on the Lower East Side in the 80s + 90s
GEO:40.725766;-73.977946
LOCATION:Museum of Reclaimed Urban Space\, 155 Avenue C\, New York\, NY 100
 09
END:VEVENT
END:VCALENDAR
