BEGIN:VCALENDAR
VERSION:2.0
PRODID:-//Squarespace Inc/Squarespace 6//v6//EN
BEGIN:VEVENT
UID:594a0038ebbd1a8a48297fbb@squarespace.com
DTSTAMP:20170713T190949Z
DTSTART:20170629T173000Z
DTEND:20170813T183000Z
SUMMARY:Exhibition: Is it even worse in Europe?
GEO:41.040808;28.979508
LOCATION:Gaia Gallery\, Ömerpaşa Cd. No: 3\, Istanbul\, Turkey
END:VEVENT
END:VCALENDAR
