BEGIN:VCALENDAR
VERSION:2.0
PRODID:-//Squarespace Inc/Squarespace 6//v6//EN
BEGIN:VEVENT
UID:5967c7e0ff7c50a02450581a@squarespace.com
DTSTAMP:20190123T193605Z
DTSTART:20170812T193000Z
DTEND:20171203T213000Z
SUMMARY:Exhibition: Departamento de Reclamações: Frestas - Trienal de Artes
 \, Brazil
GEO:-23.513861;-47.460976
LOCATION:Sesc Sorocaba\, Rua Barão de Piratininga\, 555\, 18030160 Sorocaba
 \, Brazil
END:VEVENT
END:VCALENDAR
