BEGIN:VCALENDAR
VERSION:2.0
PRODID:-//Squarespace Inc/Squarespace 6//v6//EN
BEGIN:VEVENT
UID:5967d05803596e6cf60541ef@squarespace.com
DTSTAMP:20190123T193056Z
DTSTART:20170924T010000Z
DTEND:20170924T040000Z
SUMMARY:GIG: FRESTAS\, Trienal de Artes\, Brazil
GEO:-23.513983;-47.460666
LOCATION:Sesc Sorocaba\, Rua Barão de Piratininga\, 555 Jardim Faculdade\, 
 SOROCABA\, Brasil
END:VEVENT
END:VCALENDAR
