BEGIN:VCALENDAR
VERSION:2.0
PRODID:-//Squarespace Inc/Squarespace 6//v6//EN
BEGIN:VEVENT
UID:599d0743ebbd1a48b8122127@squarespace.com
DTSTAMP:20190123T193133Z
DTSTART:20170922T000000Z
DTEND:20170925T010000Z
SUMMARY:Guerrilla Girls at NYABF\, 2017
GEO:40.745601;-73.947097
LOCATION:MoMA PS1\, 22-25 Jackson Avenue\, Long Island City\, NY\, 11101\, 
 United States
END:VEVENT
END:VCALENDAR
