BEGIN:VCALENDAR
VERSION:2.0
PRODID:-//Squarespace Inc/Squarespace 6//v6//EN
BEGIN:VEVENT
UID:5a5644d39140b78b966648e6@squarespace.com
DTSTAMP:20190123T192543Z
DTSTART:20170925T160000Z
DTEND:20171215T180000Z
SUMMARY:Exhibition: The Art of Behaving Badly\, at Dennison 
GEO:40.071168;-82.523855
LOCATION:Denison Museum\, 100 West College Street\, Granville\, OH\, 43023\
 , United States
END:VEVENT
END:VCALENDAR
