BEGIN:VCALENDAR
VERSION:2.0
PRODID:-//Squarespace Inc/Squarespace 6//v6//EN
BEGIN:VEVENT
UID:599d1a19f9a61e6173a81944@squarespace.com
DTSTAMP:20190123T192321Z
DTSTART:20170929T063000Z
DTEND:20180319T073000Z
SUMMARY:Exhibition: Guerrilla Girls: Gráfica\, 1985-2017\, São Paulo
GEO:-23.561763;-46.656007
LOCATION:MASP\, 1578 Avenida Paulista\, São Paulo\, SP\, 01310-200\, Brazil
END:VEVENT
END:VCALENDAR
