BEGIN:VCALENDAR
VERSION:2.0
PRODID:-//Squarespace Inc/Squarespace 6//v6//EN
BEGIN:VEVENT
UID:58ebe1f79f745637224fdf79@squarespace.com
DTSTAMP:20170410T202423Z
DTSTART:20170502T180000Z
DTEND:20171216T010000Z
SUMMARY:Exhibition: Converging Voices: Gender and Identity
GEO:40.713261;-73.622473
LOCATION:Emily Lowe Hall\, Hofstra University Museum\, Hofstra University\, 
 Hempstead\, NY 11549\, USA
END:VEVENT
END:VCALENDAR
