BEGIN:VCALENDAR
VERSION:2.0
PRODID:-//Squarespace Inc/Squarespace 6//v6//EN
BEGIN:VEVENT
UID:588fc6469f7456cd34c27d60@squarespace.com
DTSTAMP:20170131T000553Z
DTSTART:20170319T210000Z
DTEND:20170319T230000Z
SUMMARY:Panel: Women in Today's Art World\, Florida
GEO:26.700668;-80.053198
LOCATION:Norton Museum of Art\, 1451 S. Olive Avenue\, West Palm Beach\, FL 
 33401
END:VEVENT
END:VCALENDAR
