BEGIN:VCALENDAR
VERSION:2.0
PRODID:-//Squarespace Inc/Squarespace 6//v6//EN
BEGIN:VEVENT
UID:5a55675e9140b79f61bf827b@squarespace.com
DTSTAMP:20190123T191739Z
DTSTART:20180121T013000Z
DTEND:20180318T013000Z
SUMMARY:Exhibition: Not Ready to Make Nice\, Philadelphia
GEO:39.956902;-75.172014
LOCATION:Moore College of Art and Design\, 20th Street and The Parkway\, Ph
 iladelphi\, PA 19103\, United States
END:VEVENT
END:VCALENDAR
