BEGIN:VCALENDAR
VERSION:2.0
PRODID:-//Squarespace Inc/Squarespace 6//v6//EN
BEGIN:VEVENT
UID:5a5e72d4ec212d675a039c60@squarespace.com
DTSTAMP:20190123T191701Z
DTSTART:20180123T220000Z
DTEND:20180323T220000Z
SUMMARY:Exhibition: EVE\, London
GEO:51.53306;-0.11119
LOCATION:Amar Gallery\, 48 Penton Street\, London\, England\, N1 9QA\, Unit
 ed Kingdom
END:VEVENT
END:VCALENDAR
