BEGIN:VCALENDAR
VERSION:2.0
PRODID:-//Squarespace Inc/Squarespace 6//v6//EN
BEGIN:VEVENT
UID:5a55698fc8302598d18673d7@squarespace.com
DTSTAMP:20190123T191638Z
DTSTART:20180126T033000Z
DTEND:20180126T053000Z
SUMMARY:GIG: Guerrilla Girls at Kestnergesselschaft
GEO:52.377364;9.731424
LOCATION:Kestnergesellschaft\, 11 Goseriede\, Hannover\, NDS\, 30159\, Germ
 any
END:VEVENT
END:VCALENDAR
