BEGIN:VCALENDAR
VERSION:2.0
PRODID:-//Squarespace Inc/Squarespace 6//v6//EN
BEGIN:VEVENT
UID:5a3ae123652dea6d9cfc20fc@squarespace.com
DTSTAMP:20190123T191606Z
DTSTART:20180126T223000Z
DTEND:20180408T223000Z
SUMMARY:Exhibition: The Art of Behaving Badly\, Hanover
GEO:52.377364;9.731424
LOCATION:Kestnergesellschaft\, 11 Goseriede\, Hannover\, NDS\, 30159\, Germ
 any
END:VEVENT
END:VCALENDAR
