BEGIN:VCALENDAR
VERSION:2.0
PRODID:-//Squarespace Inc/Squarespace 6//v6//EN
BEGIN:VEVENT
UID:5a848bbf24a69403d704ef0b@squarespace.com
DTSTAMP:20190123T190502Z
DTSTART:20180210T193000Z
DTEND:20180513T183000Z
SUMMARY:Exhibition: Guerrilla Girls: Conscience of the Art World\, Virginia
GEO:37.26821;-76.715136
LOCATION:Muscarelle Museum of Art\, 603 Jamestown Road\, Williamsburg\, VA\
 , 23185\, United States
END:VEVENT
END:VCALENDAR
