BEGIN:VCALENDAR
VERSION:2.0
PRODID:-//Squarespace Inc/Squarespace 6//v6//EN
BEGIN:VEVENT
UID:5a8f36fd24a694621c641d29@squarespace.com
DTSTAMP:20190123T185157Z
DTSTART:20180326T210000Z
DTEND:20180401T010000Z
SUMMARY:Exhibition\, Gig\, talks: Guerrilla Girls at Asia Art Archive\, Art 
 Basel Hong Kong
GEO:22.281052;114.173104
LOCATION:Hong Kong Convention & Exhibition Centre\, 1 Harbour Road\, Wan Ch
 ai\, Hong Kong Island\, Hong Kong
END:VEVENT
END:VCALENDAR
